BEGIN:VCALENDAR
VERSION:2.0
PRODID:-//Second Chance Church - ECPv6.6.4.2//NONSGML v1.0//EN
CALSCALE:GREGORIAN
METHOD:PUBLISH
X-ORIGINAL-URL:https://my2ndchance.org
X-WR-CALDESC:Events for Second Chance Church
REFRESH-INTERVAL;VALUE=DURATION:PT1H
X-Robots-Tag:noindex
X-PUBLISHED-TTL:PT1H
BEGIN:VTIMEZONE
TZID:America/New_York
BEGIN:DAYLIGHT
TZOFFSETFROM:-0500
TZOFFSETTO:-0400
TZNAME:EDT
DTSTART:20260308T070000
END:DAYLIGHT
BEGIN:STANDARD
TZOFFSETFROM:-0400
TZOFFSETTO:-0500
TZNAME:EST
DTSTART:20261101T060000
END:STANDARD
END:VTIMEZONE
BEGIN:VEVENT
DTSTART;TZID=America/New_York:20260423T190000
DTEND;TZID=America/New_York:20260423T210000
DTSTAMP:20260419T144902
CREATED:20250917T130350Z
LAST-MODIFIED:20260417T124732Z
UID:744-1776970800-1776978000@my2ndchance.org
SUMMARY:Christian 12 Step Ministry Program
DESCRIPTION:Need Inner Healing? Yes\, maybe\, don’t know? Come walk the 12 Steps \n\n\n\nwith Jesus. Every Thursday at 7 pm. \n\n\n\nAlcohol – Anger – Drugs – Codependency – Gambling – Food – Pornography \n\n\n\nPerfectionism – Fear – Depression – Nicotine – Loneliness – Overworking
URL:https://my2ndchance.org/event/christian-12-step-ministry-program/
ATTACH;FMTTYPE=image/png:https://my2ndchance.org/wp-content/uploads/2025/09/SCC-12-Step_Program.png
END:VEVENT
END:VCALENDAR